BEGIN:VCALENDAR
VERSION:2.0
PRODID:-//Asbury United Methodist Church - Washington DC - ECPv6.15.13.1//NONSGML v1.0//EN
CALSCALE:GREGORIAN
METHOD:PUBLISH
X-WR-CALNAME:Asbury United Methodist Church - Washington DC
X-ORIGINAL-URL:https://www.asburyumcdc.org
X-WR-CALDESC:Events for Asbury United Methodist Church - Washington DC
REFRESH-INTERVAL;VALUE=DURATION:PT1H
X-Robots-Tag:noindex
X-PUBLISHED-TTL:PT1H
BEGIN:VTIMEZONE
TZID:UTC
BEGIN:STANDARD
TZOFFSETFROM:+0000
TZOFFSETTO:+0000
TZNAME:UTC
DTSTART:20220101T000000
END:STANDARD
END:VTIMEZONE
BEGIN:VEVENT
DTSTART;TZID=UTC:20230501T150000
DTEND;TZID=UTC:20230501T150000
DTSTAMP:20260420T023309
CREATED:20200829T222757Z
LAST-MODIFIED:20200829T222757Z
UID:13062-1682953200-1682953200@www.asburyumcdc.org
SUMMARY:Deadline for Asburyan Bulletin
DESCRIPTION:
URL:https://www.asburyumcdc.org/event/deadline-for-asburyan-bulletin-53-2023-05-01/
END:VEVENT
BEGIN:VEVENT
DTSTART;TZID=UTC:20230430T100000
DTEND;TZID=UTC:20230430T100000
DTSTAMP:20260420T023309
CREATED:20200829T205406Z
LAST-MODIFIED:20200829T205406Z
UID:13060-1682848800-1682848800@www.asburyumcdc.org
SUMMARY:Traditional Worship Service
DESCRIPTION:
URL:https://www.asburyumcdc.org/event/traditional-worship-service-online-2023-04-30/
LOCATION:Online
END:VEVENT
BEGIN:VEVENT
DTSTART;TZID=UTC:20230426T120000
DTEND;TZID=UTC:20230426T120000
DTSTAMP:20260420T023309
CREATED:20200829T225558Z
LAST-MODIFIED:20200829T225558Z
UID:13055-1682510400-1682510400@www.asburyumcdc.org
SUMMARY:Noonday Prayer (CC)
DESCRIPTION:The Noonday Prayer Line\nDial-in number is 1-712-770-5345; 368937#
URL:https://www.asburyumcdc.org/event/mid-day-prayer-cc-2023-04-26/
ATTACH;FMTTYPE=image/png:https://www.asburyumcdc.org/wp-content/uploads/2020/08/Wed-prayer.png
END:VEVENT
BEGIN:VEVENT
DTSTART;TZID=UTC:20230425T183000
DTEND;TZID=UTC:20230425T183000
DTSTAMP:20260420T023309
CREATED:20200829T224009Z
LAST-MODIFIED:20200829T224009Z
UID:13050-1682447400-1682447400@www.asburyumcdc.org
SUMMARY:Communications Ministry
DESCRIPTION:
URL:https://www.asburyumcdc.org/event/communications-ministry-2023-04-25/
LOCATION:Zoom
END:VEVENT
BEGIN:VEVENT
DTSTART;TZID=UTC:20230425T110000
DTEND;TZID=UTC:20230425T110000
DTSTAMP:20260420T023309
CREATED:20200829T223327Z
LAST-MODIFIED:20200829T223327Z
UID:13048-1682420400-1682420400@www.asburyumcdc.org
SUMMARY:Staff Meeting
DESCRIPTION:
URL:https://www.asburyumcdc.org/event/staff-meeting-2023-04-25/
END:VEVENT
BEGIN:VEVENT
DTSTART;TZID=UTC:20230424T150000
DTEND;TZID=UTC:20230424T150000
DTSTAMP:20260420T023309
CREATED:20200829T222757Z
LAST-MODIFIED:20200829T222757Z
UID:13047-1682348400-1682348400@www.asburyumcdc.org
SUMMARY:Deadline for Asburyan Bulletin
DESCRIPTION:
URL:https://www.asburyumcdc.org/event/deadline-for-asburyan-bulletin-53-2023-04-24/
END:VEVENT
BEGIN:VEVENT
DTSTART;TZID=UTC:20230423T100000
DTEND;TZID=UTC:20230423T100000
DTSTAMP:20260420T023309
CREATED:20200829T205406Z
LAST-MODIFIED:20200829T205406Z
UID:13045-1682244000-1682244000@www.asburyumcdc.org
SUMMARY:Traditional Worship Service
DESCRIPTION:
URL:https://www.asburyumcdc.org/event/traditional-worship-service-online-2023-04-23/
LOCATION:Online
END:VEVENT
BEGIN:VEVENT
DTSTART;TZID=UTC:20230419T120000
DTEND;TZID=UTC:20230419T120000
DTSTAMP:20260420T023309
CREATED:20200829T225558Z
LAST-MODIFIED:20200829T225558Z
UID:13020-1681905600-1681905600@www.asburyumcdc.org
SUMMARY:Noonday Prayer (CC)
DESCRIPTION:The Noonday Prayer Line\nDial-in number is 1-712-770-5345; 368937#
URL:https://www.asburyumcdc.org/event/mid-day-prayer-cc-2023-04-19/
ATTACH;FMTTYPE=image/png:https://www.asburyumcdc.org/wp-content/uploads/2020/08/Wed-prayer.png
END:VEVENT
BEGIN:VEVENT
DTSTART;TZID=UTC:20230418T183000
DTEND;TZID=UTC:20230418T183000
DTSTAMP:20260420T023309
CREATED:20200829T224009Z
LAST-MODIFIED:20200829T224009Z
UID:13018-1681842600-1681842600@www.asburyumcdc.org
SUMMARY:Communications Ministry
DESCRIPTION:
URL:https://www.asburyumcdc.org/event/communications-ministry-2023-04-18/
LOCATION:Zoom
END:VEVENT
BEGIN:VEVENT
DTSTART;TZID=UTC:20230418T110000
DTEND;TZID=UTC:20230418T110000
DTSTAMP:20260420T023309
CREATED:20200829T223327Z
LAST-MODIFIED:20200829T223327Z
UID:13016-1681815600-1681815600@www.asburyumcdc.org
SUMMARY:Staff Meeting
DESCRIPTION:
URL:https://www.asburyumcdc.org/event/staff-meeting-2023-04-18/
END:VEVENT
BEGIN:VEVENT
DTSTART;TZID=UTC:20230417T150000
DTEND;TZID=UTC:20230417T150000
DTSTAMP:20260420T023309
CREATED:20200829T222757Z
LAST-MODIFIED:20200829T222757Z
UID:13015-1681743600-1681743600@www.asburyumcdc.org
SUMMARY:Deadline for Asburyan Bulletin
DESCRIPTION:
URL:https://www.asburyumcdc.org/event/deadline-for-asburyan-bulletin-53-2023-04-17/
END:VEVENT
BEGIN:VEVENT
DTSTART;TZID=UTC:20230416T100000
DTEND;TZID=UTC:20230416T100000
DTSTAMP:20260420T023309
CREATED:20200829T205406Z
LAST-MODIFIED:20200829T205406Z
UID:13010-1681639200-1681639200@www.asburyumcdc.org
SUMMARY:Traditional Worship Service
DESCRIPTION:
URL:https://www.asburyumcdc.org/event/traditional-worship-service-online-2023-04-16/
LOCATION:Online
END:VEVENT
BEGIN:VEVENT
DTSTART;TZID=UTC:20230412T120000
DTEND;TZID=UTC:20230412T120000
DTSTAMP:20260420T023309
CREATED:20200829T225558Z
LAST-MODIFIED:20200829T225558Z
UID:12988-1681300800-1681300800@www.asburyumcdc.org
SUMMARY:Noonday Prayer (CC)
DESCRIPTION:The Noonday Prayer Line\nDial-in number is 1-712-770-5345; 368937#
URL:https://www.asburyumcdc.org/event/mid-day-prayer-cc-2023-04-12/
ATTACH;FMTTYPE=image/png:https://www.asburyumcdc.org/wp-content/uploads/2020/08/Wed-prayer.png
END:VEVENT
BEGIN:VEVENT
DTSTART;TZID=UTC:20230411T183000
DTEND;TZID=UTC:20230411T183000
DTSTAMP:20260420T023309
CREATED:20200829T224009Z
LAST-MODIFIED:20200829T224009Z
UID:12986-1681237800-1681237800@www.asburyumcdc.org
SUMMARY:Communications Ministry
DESCRIPTION:
URL:https://www.asburyumcdc.org/event/communications-ministry-2023-04-11/
LOCATION:Zoom
END:VEVENT
BEGIN:VEVENT
DTSTART;TZID=UTC:20230411T110000
DTEND;TZID=UTC:20230411T110000
DTSTAMP:20260420T023309
CREATED:20200829T223327Z
LAST-MODIFIED:20200829T223327Z
UID:12984-1681210800-1681210800@www.asburyumcdc.org
SUMMARY:Staff Meeting
DESCRIPTION:
URL:https://www.asburyumcdc.org/event/staff-meeting-2023-04-11/
END:VEVENT
BEGIN:VEVENT
DTSTART;TZID=UTC:20230410T150000
DTEND;TZID=UTC:20230410T150000
DTSTAMP:20260420T023309
CREATED:20200829T222757Z
LAST-MODIFIED:20200829T222757Z
UID:12983-1681138800-1681138800@www.asburyumcdc.org
SUMMARY:Deadline for Asburyan Bulletin
DESCRIPTION:
URL:https://www.asburyumcdc.org/event/deadline-for-asburyan-bulletin-53-2023-04-10/
END:VEVENT
BEGIN:VEVENT
DTSTART;TZID=UTC:20230409T100000
DTEND;TZID=UTC:20230409T100000
DTSTAMP:20260420T023309
CREATED:20200829T205406Z
LAST-MODIFIED:20200829T205406Z
UID:12981-1681034400-1681034400@www.asburyumcdc.org
SUMMARY:Traditional Worship Service
DESCRIPTION:
URL:https://www.asburyumcdc.org/event/traditional-worship-service-online-2023-04-09/
LOCATION:Online
END:VEVENT
BEGIN:VEVENT
DTSTART;TZID=UTC:20230405T120000
DTEND;TZID=UTC:20230405T120000
DTSTAMP:20260420T023309
CREATED:20200829T225558Z
LAST-MODIFIED:20200829T225558Z
UID:12973-1680696000-1680696000@www.asburyumcdc.org
SUMMARY:Noonday Prayer (CC)
DESCRIPTION:The Noonday Prayer Line\nDial-in number is 1-712-770-5345; 368937#
URL:https://www.asburyumcdc.org/event/mid-day-prayer-cc-2023-04-05/
ATTACH;FMTTYPE=image/png:https://www.asburyumcdc.org/wp-content/uploads/2020/08/Wed-prayer.png
END:VEVENT
BEGIN:VEVENT
DTSTART;TZID=UTC:20230404T183000
DTEND;TZID=UTC:20230404T183000
DTSTAMP:20260420T023309
CREATED:20200829T224009Z
LAST-MODIFIED:20200829T224009Z
UID:12971-1680633000-1680633000@www.asburyumcdc.org
SUMMARY:Communications Ministry
DESCRIPTION:
URL:https://www.asburyumcdc.org/event/communications-ministry-2023-04-04/
LOCATION:Zoom
END:VEVENT
BEGIN:VEVENT
DTSTART;TZID=UTC:20230404T110000
DTEND;TZID=UTC:20230404T110000
DTSTAMP:20260420T023309
CREATED:20200829T223327Z
LAST-MODIFIED:20200829T223327Z
UID:12969-1680606000-1680606000@www.asburyumcdc.org
SUMMARY:Staff Meeting
DESCRIPTION:
URL:https://www.asburyumcdc.org/event/staff-meeting-2023-04-04/
END:VEVENT
BEGIN:VEVENT
DTSTART;TZID=UTC:20230403T150000
DTEND;TZID=UTC:20230403T150000
DTSTAMP:20260420T023309
CREATED:20200829T222757Z
LAST-MODIFIED:20200829T222757Z
UID:12968-1680534000-1680534000@www.asburyumcdc.org
SUMMARY:Deadline for Asburyan Bulletin
DESCRIPTION:
URL:https://www.asburyumcdc.org/event/deadline-for-asburyan-bulletin-53-2023-04-03/
END:VEVENT
BEGIN:VEVENT
DTSTART;TZID=UTC:20230402T100000
DTEND;TZID=UTC:20230402T100000
DTSTAMP:20260420T023309
CREATED:20200829T205406Z
LAST-MODIFIED:20200829T205406Z
UID:12960-1680429600-1680429600@www.asburyumcdc.org
SUMMARY:Traditional Worship Service
DESCRIPTION:
URL:https://www.asburyumcdc.org/event/traditional-worship-service-online-2023-04-02/
LOCATION:Online
END:VEVENT
BEGIN:VEVENT
DTSTART;TZID=UTC:20230329T120000
DTEND;TZID=UTC:20230329T120000
DTSTAMP:20260420T023309
CREATED:20200829T225558Z
LAST-MODIFIED:20200829T225558Z
UID:12941-1680091200-1680091200@www.asburyumcdc.org
SUMMARY:Noonday Prayer (CC)
DESCRIPTION:The Noonday Prayer Line\nDial-in number is 1-712-770-5345; 368937#
URL:https://www.asburyumcdc.org/event/mid-day-prayer-cc-2023-03-29/
ATTACH;FMTTYPE=image/png:https://www.asburyumcdc.org/wp-content/uploads/2020/08/Wed-prayer.png
END:VEVENT
BEGIN:VEVENT
DTSTART;TZID=UTC:20230328T183000
DTEND;TZID=UTC:20230328T183000
DTSTAMP:20260420T023309
CREATED:20200829T224009Z
LAST-MODIFIED:20200829T224009Z
UID:12939-1680028200-1680028200@www.asburyumcdc.org
SUMMARY:Communications Ministry
DESCRIPTION:
URL:https://www.asburyumcdc.org/event/communications-ministry-2023-03-28/
LOCATION:Zoom
END:VEVENT
BEGIN:VEVENT
DTSTART;TZID=UTC:20230328T110000
DTEND;TZID=UTC:20230328T110000
DTSTAMP:20260420T023309
CREATED:20200829T223327Z
LAST-MODIFIED:20200829T223327Z
UID:12937-1680001200-1680001200@www.asburyumcdc.org
SUMMARY:Staff Meeting
DESCRIPTION:
URL:https://www.asburyumcdc.org/event/staff-meeting-2023-03-28/
END:VEVENT
BEGIN:VEVENT
DTSTART;TZID=UTC:20230327T150000
DTEND;TZID=UTC:20230327T150000
DTSTAMP:20260420T023309
CREATED:20200829T222757Z
LAST-MODIFIED:20200829T222757Z
UID:12936-1679929200-1679929200@www.asburyumcdc.org
SUMMARY:Deadline for Asburyan Bulletin
DESCRIPTION:
URL:https://www.asburyumcdc.org/event/deadline-for-asburyan-bulletin-53-2023-03-27/
END:VEVENT
BEGIN:VEVENT
DTSTART;TZID=UTC:20230326T100000
DTEND;TZID=UTC:20230326T100000
DTSTAMP:20260420T023309
CREATED:20200829T205406Z
LAST-MODIFIED:20200829T205406Z
UID:12934-1679824800-1679824800@www.asburyumcdc.org
SUMMARY:Traditional Worship Service
DESCRIPTION:
URL:https://www.asburyumcdc.org/event/traditional-worship-service-online-2023-03-26/
LOCATION:Online
END:VEVENT
BEGIN:VEVENT
DTSTART;TZID=UTC:20230322T120000
DTEND;TZID=UTC:20230322T120000
DTSTAMP:20260420T023309
CREATED:20200829T225558Z
LAST-MODIFIED:20200829T225558Z
UID:12927-1679486400-1679486400@www.asburyumcdc.org
SUMMARY:Noonday Prayer (CC)
DESCRIPTION:The Noonday Prayer Line\nDial-in number is 1-712-770-5345; 368937#
URL:https://www.asburyumcdc.org/event/mid-day-prayer-cc-2023-03-22/
ATTACH;FMTTYPE=image/png:https://www.asburyumcdc.org/wp-content/uploads/2020/08/Wed-prayer.png
END:VEVENT
BEGIN:VEVENT
DTSTART;TZID=UTC:20230321T183000
DTEND;TZID=UTC:20230321T183000
DTSTAMP:20260420T023309
CREATED:20200829T224009Z
LAST-MODIFIED:20200829T224009Z
UID:12925-1679423400-1679423400@www.asburyumcdc.org
SUMMARY:Communications Ministry
DESCRIPTION:
URL:https://www.asburyumcdc.org/event/communications-ministry-2023-03-21/
LOCATION:Zoom
END:VEVENT
BEGIN:VEVENT
DTSTART;TZID=UTC:20230321T110000
DTEND;TZID=UTC:20230321T110000
DTSTAMP:20260420T023309
CREATED:20200829T223327Z
LAST-MODIFIED:20200829T223327Z
UID:12923-1679396400-1679396400@www.asburyumcdc.org
SUMMARY:Staff Meeting
DESCRIPTION:
URL:https://www.asburyumcdc.org/event/staff-meeting-2023-03-21/
END:VEVENT
END:VCALENDAR