BEGIN:VCALENDAR
VERSION:2.0
PRODID:-//Asbury United Methodist Church - Washington DC - ECPv6.15.13.1//NONSGML v1.0//EN
CALSCALE:GREGORIAN
METHOD:PUBLISH
X-WR-CALNAME:Asbury United Methodist Church - Washington DC
X-ORIGINAL-URL:https://www.asburyumcdc.org
X-WR-CALDESC:Events for Asbury United Methodist Church - Washington DC
REFRESH-INTERVAL;VALUE=DURATION:PT1H
X-Robots-Tag:noindex
X-PUBLISHED-TTL:PT1H
BEGIN:VTIMEZONE
TZID:UTC
BEGIN:STANDARD
TZOFFSETFROM:+0000
TZOFFSETTO:+0000
TZNAME:UTC
DTSTART:20220101T000000
END:STANDARD
END:VTIMEZONE
BEGIN:VEVENT
DTSTART;TZID=UTC:20230620T110000
DTEND;TZID=UTC:20230620T110000
DTSTAMP:20260419T211321
CREATED:20200829T223327Z
LAST-MODIFIED:20200829T223327Z
UID:13336-1687258800-1687258800@www.asburyumcdc.org
SUMMARY:Staff Meeting
DESCRIPTION:
URL:https://www.asburyumcdc.org/event/staff-meeting-2023-06-20/
END:VEVENT
BEGIN:VEVENT
DTSTART;TZID=UTC:20230619T150000
DTEND;TZID=UTC:20230619T150000
DTSTAMP:20260419T211321
CREATED:20200829T222757Z
LAST-MODIFIED:20200829T222757Z
UID:13329-1687186800-1687186800@www.asburyumcdc.org
SUMMARY:Deadline for Asburyan Bulletin
DESCRIPTION:
URL:https://www.asburyumcdc.org/event/deadline-for-asburyan-bulletin-53-2023-06-19/
END:VEVENT
BEGIN:VEVENT
DTSTART;TZID=UTC:20230618T100000
DTEND;TZID=UTC:20230618T100000
DTSTAMP:20260419T211321
CREATED:20200829T205406Z
LAST-MODIFIED:20200829T205406Z
UID:13315-1687082400-1687082400@www.asburyumcdc.org
SUMMARY:Traditional Worship Service
DESCRIPTION:
URL:https://www.asburyumcdc.org/event/traditional-worship-service-online-2023-06-18/
LOCATION:Online
END:VEVENT
BEGIN:VEVENT
DTSTART;TZID=UTC:20230614T120000
DTEND;TZID=UTC:20230614T120000
DTSTAMP:20260419T211321
CREATED:20200829T225558Z
LAST-MODIFIED:20200829T225558Z
UID:13349-1686744000-1686744000@www.asburyumcdc.org
SUMMARY:Noonday Prayer (CC)
DESCRIPTION:The Noonday Prayer Line\nDial-in number is 1-712-770-5345; 368937#
URL:https://www.asburyumcdc.org/event/mid-day-prayer-cc-2023-06-14/
ATTACH;FMTTYPE=image/png:https://www.asburyumcdc.org/wp-content/uploads/2020/08/Wed-prayer.png
END:VEVENT
BEGIN:VEVENT
DTSTART;TZID=UTC:20230613T183000
DTEND;TZID=UTC:20230613T183000
DTSTAMP:20260419T211321
CREATED:20200829T224009Z
LAST-MODIFIED:20200829T224009Z
UID:13342-1686681000-1686681000@www.asburyumcdc.org
SUMMARY:Communications Ministry
DESCRIPTION:
URL:https://www.asburyumcdc.org/event/communications-ministry-2023-06-13/
LOCATION:Zoom
END:VEVENT
BEGIN:VEVENT
DTSTART;TZID=UTC:20230613T110000
DTEND;TZID=UTC:20230613T110000
DTSTAMP:20260419T211321
CREATED:20200829T223327Z
LAST-MODIFIED:20200829T223327Z
UID:13335-1686654000-1686654000@www.asburyumcdc.org
SUMMARY:Staff Meeting
DESCRIPTION:
URL:https://www.asburyumcdc.org/event/staff-meeting-2023-06-13/
END:VEVENT
BEGIN:VEVENT
DTSTART;TZID=UTC:20230612T150000
DTEND;TZID=UTC:20230612T150000
DTSTAMP:20260419T211321
CREATED:20200829T222757Z
LAST-MODIFIED:20200829T222757Z
UID:13328-1686582000-1686582000@www.asburyumcdc.org
SUMMARY:Deadline for Asburyan Bulletin
DESCRIPTION:
URL:https://www.asburyumcdc.org/event/deadline-for-asburyan-bulletin-53-2023-06-12/
END:VEVENT
BEGIN:VEVENT
DTSTART;TZID=UTC:20230611T100000
DTEND;TZID=UTC:20230611T100000
DTSTAMP:20260419T211321
CREATED:20200829T205406Z
LAST-MODIFIED:20200829T205406Z
UID:13314-1686477600-1686477600@www.asburyumcdc.org
SUMMARY:Traditional Worship Service
DESCRIPTION:
URL:https://www.asburyumcdc.org/event/traditional-worship-service-online-2023-06-11/
LOCATION:Online
END:VEVENT
BEGIN:VEVENT
DTSTART;TZID=UTC:20230607T120000
DTEND;TZID=UTC:20230607T120000
DTSTAMP:20260419T211321
CREATED:20200829T225558Z
LAST-MODIFIED:20200829T225558Z
UID:13264-1686139200-1686139200@www.asburyumcdc.org
SUMMARY:Noonday Prayer (CC)
DESCRIPTION:The Noonday Prayer Line\nDial-in number is 1-712-770-5345; 368937#
URL:https://www.asburyumcdc.org/event/mid-day-prayer-cc-2023-06-07/
ATTACH;FMTTYPE=image/png:https://www.asburyumcdc.org/wp-content/uploads/2020/08/Wed-prayer.png
END:VEVENT
BEGIN:VEVENT
DTSTART;TZID=UTC:20230606T183000
DTEND;TZID=UTC:20230606T183000
DTSTAMP:20260419T211321
CREATED:20200829T224009Z
LAST-MODIFIED:20200829T224009Z
UID:13263-1686076200-1686076200@www.asburyumcdc.org
SUMMARY:Communications Ministry
DESCRIPTION:
URL:https://www.asburyumcdc.org/event/communications-ministry-2023-06-06/
LOCATION:Zoom
END:VEVENT
BEGIN:VEVENT
DTSTART;TZID=UTC:20230606T110000
DTEND;TZID=UTC:20230606T110000
DTSTAMP:20260419T211321
CREATED:20200829T223327Z
LAST-MODIFIED:20200829T223327Z
UID:13262-1686049200-1686049200@www.asburyumcdc.org
SUMMARY:Staff Meeting
DESCRIPTION:
URL:https://www.asburyumcdc.org/event/staff-meeting-2023-06-06/
END:VEVENT
BEGIN:VEVENT
DTSTART;TZID=UTC:20230605T150000
DTEND;TZID=UTC:20230605T150000
DTSTAMP:20260419T211321
CREATED:20200829T222757Z
LAST-MODIFIED:20200829T222757Z
UID:13261-1685977200-1685977200@www.asburyumcdc.org
SUMMARY:Deadline for Asburyan Bulletin
DESCRIPTION:
URL:https://www.asburyumcdc.org/event/deadline-for-asburyan-bulletin-53-2023-06-05/
END:VEVENT
BEGIN:VEVENT
DTSTART;TZID=UTC:20230604T100000
DTEND;TZID=UTC:20230604T100000
DTSTAMP:20260419T211321
CREATED:20200829T205406Z
LAST-MODIFIED:20200829T205406Z
UID:13259-1685872800-1685872800@www.asburyumcdc.org
SUMMARY:Traditional Worship Service
DESCRIPTION:
URL:https://www.asburyumcdc.org/event/traditional-worship-service-online-2023-06-04/
LOCATION:Online
END:VEVENT
BEGIN:VEVENT
DTSTART;TZID=UTC:20230531T120000
DTEND;TZID=UTC:20230531T120000
DTSTAMP:20260419T211321
CREATED:20200829T225558Z
LAST-MODIFIED:20200829T225558Z
UID:13254-1685534400-1685534400@www.asburyumcdc.org
SUMMARY:Noonday Prayer (CC)
DESCRIPTION:The Noonday Prayer Line\nDial-in number is 1-712-770-5345; 368937#
URL:https://www.asburyumcdc.org/event/mid-day-prayer-cc-2023-05-31/
ATTACH;FMTTYPE=image/png:https://www.asburyumcdc.org/wp-content/uploads/2020/08/Wed-prayer.png
END:VEVENT
BEGIN:VEVENT
DTSTART;TZID=UTC:20230530T183000
DTEND;TZID=UTC:20230530T183000
DTSTAMP:20260419T211321
CREATED:20200829T224009Z
LAST-MODIFIED:20200829T224009Z
UID:13253-1685471400-1685471400@www.asburyumcdc.org
SUMMARY:Communications Ministry
DESCRIPTION:
URL:https://www.asburyumcdc.org/event/communications-ministry-2023-05-30/
LOCATION:Zoom
END:VEVENT
BEGIN:VEVENT
DTSTART;TZID=UTC:20230530T110000
DTEND;TZID=UTC:20230530T110000
DTSTAMP:20260419T211321
CREATED:20200829T223327Z
LAST-MODIFIED:20200829T223327Z
UID:13252-1685444400-1685444400@www.asburyumcdc.org
SUMMARY:Staff Meeting
DESCRIPTION:
URL:https://www.asburyumcdc.org/event/staff-meeting-2023-05-30/
END:VEVENT
BEGIN:VEVENT
DTSTART;TZID=UTC:20230529T150000
DTEND;TZID=UTC:20230529T150000
DTSTAMP:20260419T211321
CREATED:20200829T222757Z
LAST-MODIFIED:20200829T222757Z
UID:13251-1685372400-1685372400@www.asburyumcdc.org
SUMMARY:Deadline for Asburyan Bulletin
DESCRIPTION:
URL:https://www.asburyumcdc.org/event/deadline-for-asburyan-bulletin-53-2023-05-29/
END:VEVENT
BEGIN:VEVENT
DTSTART;TZID=UTC:20230528T100000
DTEND;TZID=UTC:20230528T100000
DTSTAMP:20260419T211321
CREATED:20200829T205406Z
LAST-MODIFIED:20200829T205406Z
UID:13249-1685268000-1685268000@www.asburyumcdc.org
SUMMARY:Traditional Worship Service
DESCRIPTION:
URL:https://www.asburyumcdc.org/event/traditional-worship-service-online-2023-05-28/
LOCATION:Online
END:VEVENT
BEGIN:VEVENT
DTSTART;TZID=UTC:20230524T120000
DTEND;TZID=UTC:20230524T120000
DTSTAMP:20260419T211321
CREATED:20200829T225558Z
LAST-MODIFIED:20200829T225558Z
UID:13245-1684929600-1684929600@www.asburyumcdc.org
SUMMARY:Noonday Prayer (CC)
DESCRIPTION:The Noonday Prayer Line\nDial-in number is 1-712-770-5345; 368937#
URL:https://www.asburyumcdc.org/event/mid-day-prayer-cc-2023-05-24/
ATTACH;FMTTYPE=image/png:https://www.asburyumcdc.org/wp-content/uploads/2020/08/Wed-prayer.png
END:VEVENT
BEGIN:VEVENT
DTSTART;TZID=UTC:20230523T183000
DTEND;TZID=UTC:20230523T183000
DTSTAMP:20260419T211321
CREATED:20200829T224009Z
LAST-MODIFIED:20200829T224009Z
UID:13191-1684866600-1684866600@www.asburyumcdc.org
SUMMARY:Communications Ministry
DESCRIPTION:
URL:https://www.asburyumcdc.org/event/communications-ministry-2023-05-23/
LOCATION:Zoom
END:VEVENT
BEGIN:VEVENT
DTSTART;TZID=UTC:20230523T110000
DTEND;TZID=UTC:20230523T110000
DTSTAMP:20260419T211321
CREATED:20200829T223327Z
LAST-MODIFIED:20200829T223327Z
UID:13189-1684839600-1684839600@www.asburyumcdc.org
SUMMARY:Staff Meeting
DESCRIPTION:
URL:https://www.asburyumcdc.org/event/staff-meeting-2023-05-23/
END:VEVENT
BEGIN:VEVENT
DTSTART;TZID=UTC:20230522T150000
DTEND;TZID=UTC:20230522T150000
DTSTAMP:20260419T211321
CREATED:20200829T222757Z
LAST-MODIFIED:20200829T222757Z
UID:13188-1684767600-1684767600@www.asburyumcdc.org
SUMMARY:Deadline for Asburyan Bulletin
DESCRIPTION:
URL:https://www.asburyumcdc.org/event/deadline-for-asburyan-bulletin-53-2023-05-22/
END:VEVENT
BEGIN:VEVENT
DTSTART;TZID=UTC:20230521T100000
DTEND;TZID=UTC:20230521T100000
DTSTAMP:20260419T211321
CREATED:20200829T205406Z
LAST-MODIFIED:20200829T205406Z
UID:13186-1684663200-1684663200@www.asburyumcdc.org
SUMMARY:Traditional Worship Service
DESCRIPTION:
URL:https://www.asburyumcdc.org/event/traditional-worship-service-online-2023-05-21/
LOCATION:Online
END:VEVENT
BEGIN:VEVENT
DTSTART;TZID=UTC:20230517T120000
DTEND;TZID=UTC:20230517T120000
DTSTAMP:20260419T211321
CREATED:20200829T225558Z
LAST-MODIFIED:20200829T225558Z
UID:13179-1684324800-1684324800@www.asburyumcdc.org
SUMMARY:Noonday Prayer (CC)
DESCRIPTION:The Noonday Prayer Line\nDial-in number is 1-712-770-5345; 368937#
URL:https://www.asburyumcdc.org/event/mid-day-prayer-cc-2023-05-17/
ATTACH;FMTTYPE=image/png:https://www.asburyumcdc.org/wp-content/uploads/2020/08/Wed-prayer.png
END:VEVENT
BEGIN:VEVENT
DTSTART;TZID=UTC:20230516T183000
DTEND;TZID=UTC:20230516T183000
DTSTAMP:20260419T211321
CREATED:20200829T224009Z
LAST-MODIFIED:20200829T224009Z
UID:13177-1684261800-1684261800@www.asburyumcdc.org
SUMMARY:Communications Ministry
DESCRIPTION:
URL:https://www.asburyumcdc.org/event/communications-ministry-2023-05-16/
LOCATION:Zoom
END:VEVENT
BEGIN:VEVENT
DTSTART;TZID=UTC:20230516T110000
DTEND;TZID=UTC:20230516T110000
DTSTAMP:20260419T211321
CREATED:20200829T223327Z
LAST-MODIFIED:20200829T223327Z
UID:13175-1684234800-1684234800@www.asburyumcdc.org
SUMMARY:Staff Meeting
DESCRIPTION:
URL:https://www.asburyumcdc.org/event/staff-meeting-2023-05-16/
END:VEVENT
BEGIN:VEVENT
DTSTART;TZID=UTC:20230515T150000
DTEND;TZID=UTC:20230515T150000
DTSTAMP:20260419T211321
CREATED:20200829T222757Z
LAST-MODIFIED:20200829T222757Z
UID:13174-1684162800-1684162800@www.asburyumcdc.org
SUMMARY:Deadline for Asburyan Bulletin
DESCRIPTION:
URL:https://www.asburyumcdc.org/event/deadline-for-asburyan-bulletin-53-2023-05-15/
END:VEVENT
BEGIN:VEVENT
DTSTART;TZID=UTC:20230514T100000
DTEND;TZID=UTC:20230514T100000
DTSTAMP:20260419T211321
CREATED:20200829T205406Z
LAST-MODIFIED:20200829T205406Z
UID:13169-1684058400-1684058400@www.asburyumcdc.org
SUMMARY:Traditional Worship Service
DESCRIPTION:
URL:https://www.asburyumcdc.org/event/traditional-worship-service-online-2023-05-14/
LOCATION:Online
END:VEVENT
BEGIN:VEVENT
DTSTART;TZID=UTC:20230510T120000
DTEND;TZID=UTC:20230510T120000
DTSTAMP:20260419T211321
CREATED:20200829T225558Z
LAST-MODIFIED:20200829T225558Z
UID:13085-1683720000-1683720000@www.asburyumcdc.org
SUMMARY:Noonday Prayer (CC)
DESCRIPTION:The Noonday Prayer Line\nDial-in number is 1-712-770-5345; 368937#
URL:https://www.asburyumcdc.org/event/mid-day-prayer-cc-2023-05-10/
ATTACH;FMTTYPE=image/png:https://www.asburyumcdc.org/wp-content/uploads/2020/08/Wed-prayer.png
END:VEVENT
BEGIN:VEVENT
DTSTART;TZID=UTC:20230509T183000
DTEND;TZID=UTC:20230509T183000
DTSTAMP:20260419T211321
CREATED:20200829T224009Z
LAST-MODIFIED:20200829T224009Z
UID:13083-1683657000-1683657000@www.asburyumcdc.org
SUMMARY:Communications Ministry
DESCRIPTION:
URL:https://www.asburyumcdc.org/event/communications-ministry-2023-05-09/
LOCATION:Zoom
END:VEVENT
END:VCALENDAR