BEGIN:VCALENDAR
VERSION:2.0
PRODID:-//Asbury United Methodist Church - Washington DC - ECPv6.15.13.1//NONSGML v1.0//EN
CALSCALE:GREGORIAN
METHOD:PUBLISH
X-WR-CALNAME:Asbury United Methodist Church - Washington DC
X-ORIGINAL-URL:https://www.asburyumcdc.org
X-WR-CALDESC:Events for Asbury United Methodist Church - Washington DC
REFRESH-INTERVAL;VALUE=DURATION:PT1H
X-Robots-Tag:noindex
X-PUBLISHED-TTL:PT1H
BEGIN:VTIMEZONE
TZID:UTC
BEGIN:STANDARD
TZOFFSETFROM:+0000
TZOFFSETTO:+0000
TZNAME:UTC
DTSTART:20220101T000000
END:STANDARD
END:VTIMEZONE
BEGIN:VEVENT
DTSTART;TZID=UTC:20230913T120000
DTEND;TZID=UTC:20230913T120000
DTSTAMP:20260420T004611
CREATED:20200829T225558Z
LAST-MODIFIED:20200829T225558Z
UID:13457-1694606400-1694606400@www.asburyumcdc.org
SUMMARY:Noonday Prayer (CC)
DESCRIPTION:The Noonday Prayer Line\nDial-in number is 1-712-770-5345; 368937#
URL:https://www.asburyumcdc.org/event/mid-day-prayer-cc-2023-09-13/
ATTACH;FMTTYPE=image/png:https://www.asburyumcdc.org/wp-content/uploads/2020/08/Wed-prayer.png
END:VEVENT
BEGIN:VEVENT
DTSTART;TZID=UTC:20230912T183000
DTEND;TZID=UTC:20230912T183000
DTSTAMP:20260420T004611
CREATED:20200829T224009Z
LAST-MODIFIED:20200829T224009Z
UID:13456-1694543400-1694543400@www.asburyumcdc.org
SUMMARY:Communications Ministry
DESCRIPTION:
URL:https://www.asburyumcdc.org/event/communications-ministry-2023-09-12/
LOCATION:Zoom
END:VEVENT
BEGIN:VEVENT
DTSTART;TZID=UTC:20230912T110000
DTEND;TZID=UTC:20230912T110000
DTSTAMP:20260420T004611
CREATED:20200829T223327Z
LAST-MODIFIED:20200829T223327Z
UID:13455-1694516400-1694516400@www.asburyumcdc.org
SUMMARY:Staff Meeting
DESCRIPTION:
URL:https://www.asburyumcdc.org/event/staff-meeting-2023-09-12/
END:VEVENT
BEGIN:VEVENT
DTSTART;TZID=UTC:20230911T150000
DTEND;TZID=UTC:20230911T150000
DTSTAMP:20260420T004611
CREATED:20200829T222757Z
LAST-MODIFIED:20200829T222757Z
UID:13451-1694444400-1694444400@www.asburyumcdc.org
SUMMARY:Deadline for Asburyan Bulletin
DESCRIPTION:
URL:https://www.asburyumcdc.org/event/deadline-for-asburyan-bulletin-53-2023-09-11/
END:VEVENT
BEGIN:VEVENT
DTSTART;TZID=UTC:20230910T100000
DTEND;TZID=UTC:20230910T100000
DTSTAMP:20260420T004611
CREATED:20200829T205406Z
LAST-MODIFIED:20200829T205406Z
UID:13449-1694340000-1694340000@www.asburyumcdc.org
SUMMARY:Traditional Worship Service
DESCRIPTION:
URL:https://www.asburyumcdc.org/event/traditional-worship-service-online-2023-09-10/
LOCATION:Online
END:VEVENT
BEGIN:VEVENT
DTSTART;TZID=UTC:20230906T120000
DTEND;TZID=UTC:20230906T120000
DTSTAMP:20260420T004611
CREATED:20200829T225558Z
LAST-MODIFIED:20200829T225558Z
UID:13428-1694001600-1694001600@www.asburyumcdc.org
SUMMARY:Noonday Prayer (CC)
DESCRIPTION:The Noonday Prayer Line\nDial-in number is 1-712-770-5345; 368937#
URL:https://www.asburyumcdc.org/event/mid-day-prayer-cc-2023-09-06/
ATTACH;FMTTYPE=image/png:https://www.asburyumcdc.org/wp-content/uploads/2020/08/Wed-prayer.png
END:VEVENT
BEGIN:VEVENT
DTSTART;TZID=UTC:20230905T183000
DTEND;TZID=UTC:20230905T183000
DTSTAMP:20260420T004611
CREATED:20200829T224009Z
LAST-MODIFIED:20200829T224009Z
UID:13427-1693938600-1693938600@www.asburyumcdc.org
SUMMARY:Communications Ministry
DESCRIPTION:
URL:https://www.asburyumcdc.org/event/communications-ministry-2023-09-05/
LOCATION:Zoom
END:VEVENT
BEGIN:VEVENT
DTSTART;TZID=UTC:20230905T110000
DTEND;TZID=UTC:20230905T110000
DTSTAMP:20260420T004611
CREATED:20200829T223327Z
LAST-MODIFIED:20200829T223327Z
UID:13426-1693911600-1693911600@www.asburyumcdc.org
SUMMARY:Staff Meeting
DESCRIPTION:
URL:https://www.asburyumcdc.org/event/staff-meeting-2023-09-05/
END:VEVENT
BEGIN:VEVENT
DTSTART;TZID=UTC:20230904T150000
DTEND;TZID=UTC:20230904T150000
DTSTAMP:20260420T004611
CREATED:20200829T222757Z
LAST-MODIFIED:20200829T222757Z
UID:13425-1693839600-1693839600@www.asburyumcdc.org
SUMMARY:Deadline for Asburyan Bulletin
DESCRIPTION:
URL:https://www.asburyumcdc.org/event/deadline-for-asburyan-bulletin-53-2023-09-04/
END:VEVENT
BEGIN:VEVENT
DTSTART;TZID=UTC:20230903T100000
DTEND;TZID=UTC:20230903T100000
DTSTAMP:20260420T004611
CREATED:20200829T205406Z
LAST-MODIFIED:20200829T205406Z
UID:13423-1693735200-1693735200@www.asburyumcdc.org
SUMMARY:Traditional Worship Service
DESCRIPTION:
URL:https://www.asburyumcdc.org/event/traditional-worship-service-online-2023-09-03/
LOCATION:Online
END:VEVENT
BEGIN:VEVENT
DTSTART;TZID=UTC:20230830T120000
DTEND;TZID=UTC:20230830T120000
DTSTAMP:20260420T004611
CREATED:20200829T225558Z
LAST-MODIFIED:20200829T225558Z
UID:13417-1693396800-1693396800@www.asburyumcdc.org
SUMMARY:Noonday Prayer (CC)
DESCRIPTION:The Noonday Prayer Line\nDial-in number is 1-712-770-5345; 368937#
URL:https://www.asburyumcdc.org/event/mid-day-prayer-cc-2023-08-30/
ATTACH;FMTTYPE=image/png:https://www.asburyumcdc.org/wp-content/uploads/2020/08/Wed-prayer.png
END:VEVENT
BEGIN:VEVENT
DTSTART;TZID=UTC:20230829T183000
DTEND;TZID=UTC:20230829T183000
DTSTAMP:20260420T004611
CREATED:20200829T224009Z
LAST-MODIFIED:20200829T224009Z
UID:13416-1693333800-1693333800@www.asburyumcdc.org
SUMMARY:Communications Ministry
DESCRIPTION:
URL:https://www.asburyumcdc.org/event/communications-ministry-2023-08-29/
LOCATION:Zoom
END:VEVENT
BEGIN:VEVENT
DTSTART;TZID=UTC:20230829T110000
DTEND;TZID=UTC:20230829T110000
DTSTAMP:20260420T004611
CREATED:20200829T223327Z
LAST-MODIFIED:20200829T223327Z
UID:13415-1693306800-1693306800@www.asburyumcdc.org
SUMMARY:Staff Meeting
DESCRIPTION:
URL:https://www.asburyumcdc.org/event/staff-meeting-2023-08-29/
END:VEVENT
BEGIN:VEVENT
DTSTART;TZID=UTC:20230828T150000
DTEND;TZID=UTC:20230828T150000
DTSTAMP:20260420T004611
CREATED:20200829T222757Z
LAST-MODIFIED:20200829T222757Z
UID:13414-1693234800-1693234800@www.asburyumcdc.org
SUMMARY:Deadline for Asburyan Bulletin
DESCRIPTION:
URL:https://www.asburyumcdc.org/event/deadline-for-asburyan-bulletin-53-2023-08-28/
END:VEVENT
BEGIN:VEVENT
DTSTART;TZID=UTC:20230827T100000
DTEND;TZID=UTC:20230827T100000
DTSTAMP:20260420T004611
CREATED:20200829T205406Z
LAST-MODIFIED:20200829T205406Z
UID:13412-1693130400-1693130400@www.asburyumcdc.org
SUMMARY:Traditional Worship Service
DESCRIPTION:
URL:https://www.asburyumcdc.org/event/traditional-worship-service-online-2023-08-27/
LOCATION:Online
END:VEVENT
BEGIN:VEVENT
DTSTART;TZID=UTC:20230823T120000
DTEND;TZID=UTC:20230823T120000
DTSTAMP:20260420T004611
CREATED:20200829T225558Z
LAST-MODIFIED:20200829T225558Z
UID:13407-1692792000-1692792000@www.asburyumcdc.org
SUMMARY:Noonday Prayer (CC)
DESCRIPTION:The Noonday Prayer Line\nDial-in number is 1-712-770-5345; 368937#
URL:https://www.asburyumcdc.org/event/mid-day-prayer-cc-2023-08-23/
ATTACH;FMTTYPE=image/png:https://www.asburyumcdc.org/wp-content/uploads/2020/08/Wed-prayer.png
END:VEVENT
BEGIN:VEVENT
DTSTART;TZID=UTC:20230822T183000
DTEND;TZID=UTC:20230822T183000
DTSTAMP:20260420T004611
CREATED:20200829T224009Z
LAST-MODIFIED:20200829T224009Z
UID:13401-1692729000-1692729000@www.asburyumcdc.org
SUMMARY:Communications Ministry
DESCRIPTION:
URL:https://www.asburyumcdc.org/event/communications-ministry-2023-08-22/
LOCATION:Zoom
END:VEVENT
BEGIN:VEVENT
DTSTART;TZID=UTC:20230822T110000
DTEND;TZID=UTC:20230822T110000
DTSTAMP:20260420T004611
CREATED:20200829T223327Z
LAST-MODIFIED:20200829T223327Z
UID:13400-1692702000-1692702000@www.asburyumcdc.org
SUMMARY:Staff Meeting
DESCRIPTION:
URL:https://www.asburyumcdc.org/event/staff-meeting-2023-08-22/
END:VEVENT
BEGIN:VEVENT
DTSTART;TZID=UTC:20230821T150000
DTEND;TZID=UTC:20230821T150000
DTSTAMP:20260420T004611
CREATED:20200829T222757Z
LAST-MODIFIED:20200829T222757Z
UID:13399-1692630000-1692630000@www.asburyumcdc.org
SUMMARY:Deadline for Asburyan Bulletin
DESCRIPTION:
URL:https://www.asburyumcdc.org/event/deadline-for-asburyan-bulletin-53-2023-08-21/
END:VEVENT
BEGIN:VEVENT
DTSTART;TZID=UTC:20230820T100000
DTEND;TZID=UTC:20230820T100000
DTSTAMP:20260420T004611
CREATED:20200829T205406Z
LAST-MODIFIED:20200829T205406Z
UID:13397-1692525600-1692525600@www.asburyumcdc.org
SUMMARY:Traditional Worship Service
DESCRIPTION:
URL:https://www.asburyumcdc.org/event/traditional-worship-service-online-2023-08-20/
LOCATION:Online
END:VEVENT
BEGIN:VEVENT
DTSTART;TZID=UTC:20230816T120000
DTEND;TZID=UTC:20230816T120000
DTSTAMP:20260420T004611
CREATED:20200829T225558Z
LAST-MODIFIED:20200829T225558Z
UID:13387-1692187200-1692187200@www.asburyumcdc.org
SUMMARY:Noonday Prayer (CC)
DESCRIPTION:The Noonday Prayer Line\nDial-in number is 1-712-770-5345; 368937#
URL:https://www.asburyumcdc.org/event/mid-day-prayer-cc-2023-08-16/
ATTACH;FMTTYPE=image/png:https://www.asburyumcdc.org/wp-content/uploads/2020/08/Wed-prayer.png
END:VEVENT
BEGIN:VEVENT
DTSTART;TZID=UTC:20230815T183000
DTEND;TZID=UTC:20230815T183000
DTSTAMP:20260420T004611
CREATED:20200829T224009Z
LAST-MODIFIED:20200829T224009Z
UID:13386-1692124200-1692124200@www.asburyumcdc.org
SUMMARY:Communications Ministry
DESCRIPTION:
URL:https://www.asburyumcdc.org/event/communications-ministry-2023-08-15/
LOCATION:Zoom
END:VEVENT
BEGIN:VEVENT
DTSTART;TZID=UTC:20230815T110000
DTEND;TZID=UTC:20230815T110000
DTSTAMP:20260420T004611
CREATED:20200829T223327Z
LAST-MODIFIED:20200829T223327Z
UID:13385-1692097200-1692097200@www.asburyumcdc.org
SUMMARY:Staff Meeting
DESCRIPTION:
URL:https://www.asburyumcdc.org/event/staff-meeting-2023-08-15/
END:VEVENT
BEGIN:VEVENT
DTSTART;TZID=UTC:20230814T150000
DTEND;TZID=UTC:20230814T150000
DTSTAMP:20260420T004611
CREATED:20200829T222757Z
LAST-MODIFIED:20200829T222757Z
UID:13384-1692025200-1692025200@www.asburyumcdc.org
SUMMARY:Deadline for Asburyan Bulletin
DESCRIPTION:
URL:https://www.asburyumcdc.org/event/deadline-for-asburyan-bulletin-53-2023-08-14/
END:VEVENT
BEGIN:VEVENT
DTSTART;TZID=UTC:20230813T100000
DTEND;TZID=UTC:20230813T100000
DTSTAMP:20260420T004611
CREATED:20200829T205406Z
LAST-MODIFIED:20200829T205406Z
UID:13382-1691920800-1691920800@www.asburyumcdc.org
SUMMARY:Traditional Worship Service
DESCRIPTION:
URL:https://www.asburyumcdc.org/event/traditional-worship-service-online-2023-08-13/
LOCATION:Online
END:VEVENT
BEGIN:VEVENT
DTSTART;TZID=UTC:20230809T120000
DTEND;TZID=UTC:20230809T120000
DTSTAMP:20260420T004611
CREATED:20200829T225558Z
LAST-MODIFIED:20200829T225558Z
UID:13378-1691582400-1691582400@www.asburyumcdc.org
SUMMARY:Noonday Prayer (CC)
DESCRIPTION:The Noonday Prayer Line\nDial-in number is 1-712-770-5345; 368937#
URL:https://www.asburyumcdc.org/event/mid-day-prayer-cc-2023-08-09/
ATTACH;FMTTYPE=image/png:https://www.asburyumcdc.org/wp-content/uploads/2020/08/Wed-prayer.png
END:VEVENT
BEGIN:VEVENT
DTSTART;TZID=UTC:20230808T183000
DTEND;TZID=UTC:20230808T183000
DTSTAMP:20260420T004611
CREATED:20200829T224009Z
LAST-MODIFIED:20200829T224009Z
UID:13377-1691519400-1691519400@www.asburyumcdc.org
SUMMARY:Communications Ministry
DESCRIPTION:
URL:https://www.asburyumcdc.org/event/communications-ministry-2023-08-08/
LOCATION:Zoom
END:VEVENT
BEGIN:VEVENT
DTSTART;TZID=UTC:20230808T110000
DTEND;TZID=UTC:20230808T110000
DTSTAMP:20260420T004611
CREATED:20200829T223327Z
LAST-MODIFIED:20200829T223327Z
UID:13376-1691492400-1691492400@www.asburyumcdc.org
SUMMARY:Staff Meeting
DESCRIPTION:
URL:https://www.asburyumcdc.org/event/staff-meeting-2023-08-08/
END:VEVENT
BEGIN:VEVENT
DTSTART;TZID=UTC:20230807T150000
DTEND;TZID=UTC:20230807T150000
DTSTAMP:20260420T004611
CREATED:20200829T222757Z
LAST-MODIFIED:20200829T222757Z
UID:13375-1691420400-1691420400@www.asburyumcdc.org
SUMMARY:Deadline for Asburyan Bulletin
DESCRIPTION:
URL:https://www.asburyumcdc.org/event/deadline-for-asburyan-bulletin-53-2023-08-07/
END:VEVENT
BEGIN:VEVENT
DTSTART;TZID=UTC:20230806T100000
DTEND;TZID=UTC:20230806T100000
DTSTAMP:20260420T004611
CREATED:20200829T205406Z
LAST-MODIFIED:20200829T205406Z
UID:13373-1691316000-1691316000@www.asburyumcdc.org
SUMMARY:Traditional Worship Service
DESCRIPTION:
URL:https://www.asburyumcdc.org/event/traditional-worship-service-online-2023-08-06/
LOCATION:Online
END:VEVENT
END:VCALENDAR